BEGIN:VCALENDAR
VERSION:2.0
PRODID:-//West 20 Ranch &amp; Saddle Co || For Saddles That FIT - ECPv5.14.0.4//NONSGML v1.0//EN
CALSCALE:GREGORIAN
METHOD:PUBLISH
X-WR-CALNAME:West 20 Ranch &amp; Saddle Co || For Saddles That FIT
X-ORIGINAL-URL:https://ranch.west20.com
X-WR-CALDESC:Events for West 20 Ranch &amp; Saddle Co || For Saddles That FIT
BEGIN:VTIMEZONE
TZID:America/Chicago
BEGIN:DAYLIGHT
TZOFFSETFROM:-0600
TZOFFSETTO:-0500
TZNAME:CDT
DTSTART:20260308T080000
END:DAYLIGHT
BEGIN:STANDARD
TZOFFSETFROM:-0500
TZOFFSETTO:-0600
TZNAME:CST
DTSTART:20261101T070000
END:STANDARD
END:VTIMEZONE
BEGIN:VEVENT
DTSTART;TZID=America/Chicago:20260816T090000
DTEND;TZID=America/Chicago:20260816T170000
DTSTAMP:20260423T141600
CREATED:20260422T165721Z
LAST-MODIFIED:20260422T165721Z
UID:3509-1786870800-1786899600@ranch.west20.com
SUMMARY:Fox River Saddle Club Open Horse Show - 2 of 2
DESCRIPTION:Stay tuned for showbill and details!
URL:https://ranch.west20.com/event/fox-river-saddle-club-open-horse-show-2-of-2/
LOCATION:West 20 Ranch & Saddle Co\, W 4812 Hwy 20\, East Troy\, 53120\, United States
CATEGORIES:Horse Show
END:VEVENT
END:VCALENDAR